BEGIN:VCALENDAR
VERSION:2.0
PRODID:-//Community Sector Network of PEI - ECPv6.15.20//NONSGML v1.0//EN
CALSCALE:GREGORIAN
METHOD:PUBLISH
X-WR-CALNAME:Community Sector Network of PEI
X-ORIGINAL-URL:https://csnpei.com
X-WR-CALDESC:Events for Community Sector Network of PEI
REFRESH-INTERVAL;VALUE=DURATION:PT1H
X-Robots-Tag:noindex
X-PUBLISHED-TTL:PT1H
BEGIN:VTIMEZONE
TZID:America/Halifax
BEGIN:DAYLIGHT
TZOFFSETFROM:-0400
TZOFFSETTO:-0300
TZNAME:ADT
DTSTART:20250309T060000
END:DAYLIGHT
BEGIN:STANDARD
TZOFFSETFROM:-0300
TZOFFSETTO:-0400
TZNAME:AST
DTSTART:20251102T050000
END:STANDARD
BEGIN:DAYLIGHT
TZOFFSETFROM:-0400
TZOFFSETTO:-0300
TZNAME:ADT
DTSTART:20260308T060000
END:DAYLIGHT
BEGIN:STANDARD
TZOFFSETFROM:-0300
TZOFFSETTO:-0400
TZNAME:AST
DTSTART:20261101T050000
END:STANDARD
BEGIN:DAYLIGHT
TZOFFSETFROM:-0400
TZOFFSETTO:-0300
TZNAME:ADT
DTSTART:20270314T060000
END:DAYLIGHT
BEGIN:STANDARD
TZOFFSETFROM:-0300
TZOFFSETTO:-0400
TZNAME:AST
DTSTART:20271107T050000
END:STANDARD
END:VTIMEZONE
BEGIN:VEVENT
DTSTART;VALUE=DATE:20260202
DTEND;VALUE=DATE:20260221
DTSTAMP:20260419T113656
CREATED:20260209T150823Z
LAST-MODIFIED:20260210T184236Z
UID:4777-1769990400-1771631999@csnpei.com
SUMMARY:Are you a new Executive Director?
DESCRIPTION:Are you a new Executive Director? \nApplications are now open for the 2026 ED Academy\, a supportive 12-month training program for Executive Directors with less than 3 years in the role. \nED Academy helps new EDs build confidence\, strengthen their leadership approach\, and navigate the realities of nonprofit management\, with practical tools and peer support along the way. \nThe program includes live in-person sessions\, an online learning classroom and community\, monthly virtual sessions\, and 100+ sector-specific tools and templates. The program begins in April 2026 and applications are open. \nHere’s how you can help: \n\n\nShare the application link with your networks \n\n\nRecommend the program to any new EDs you know \n\n\nReshare our social media posts (we’ve made it easy!) – LinkedIn or Instagram! \n\n\n🔗 Application link:\nhttps://forms.office.com/Pages/ResponsePage.aspx?id=2tps4L6W406uB0l3hJAoZ8qcxEq2tm5Oh9jQ_NbDk_pUNkhHUDUzTlRXRDEyOUo2V0ZNRzBKUk85QS4u \nProvince Specific Details: \n🟣 New Brunswick (francophone offering) \n🔵 Nova Scotia \n🟢 Prince Edward Island
URL:https://csnpei.com/event/are-you-a-new-executive-director/
END:VEVENT
BEGIN:VEVENT
DTSTART;VALUE=DATE:20260205
DTEND;VALUE=DATE:20260228
DTSTAMP:20260419T113656
CREATED:20260209T145212Z
LAST-MODIFIED:20260209T145323Z
UID:4763-1770249600-1772236799@csnpei.com
SUMMARY:CMHA’s 3rd Annual Push-Up Challenge
DESCRIPTION:  \nThis February\, the Canadian Mental Health Association PEI Division (CMHA PEI) is encouraging\nIslanders to push for better mental health by participating in a fitness-based mental health\ninitiative\, The Push-Up Challenge. \nThe Challenge begins on February 5 and runs until February 27. The free event engages people\nin mental health through connection\, physical activity and education while having fun. Participants\nwill take on 2\,000 push-ups across the 23 days\, to remember and honour the approximately 2\,000\nlives that are lost to suicide each day worldwide while raising vital funds for CMHA. \nParticipants can choose to fundraise and support CMHA PEI if they wish. Every dollar raised will\nhelp support Islanders in their recovery from mental illness and foster positive mental health\noutcomes. For more information and to register for the Challenge visit: www.thepushupchallenge.ca  \nFor those not wishing to participate in the Challenge\, you can still play a part locally by supporting a participant or donating to CMHA PEI at www.pei.cmha.ca or by\ncalling the Division Office – 902-566-3034
URL:https://csnpei.com/event/cmhas-3rd-annual-push-up-challenge/
END:VEVENT
END:VCALENDAR