BEGIN:VCALENDAR
VERSION:2.0
PRODID:-//Community Sector Network of PEI - ECPv6.15.20//NONSGML v1.0//EN
CALSCALE:GREGORIAN
METHOD:PUBLISH
X-ORIGINAL-URL:https://csnpei.com
X-WR-CALDESC:Events for Community Sector Network of PEI
REFRESH-INTERVAL;VALUE=DURATION:PT1H
X-Robots-Tag:noindex
X-PUBLISHED-TTL:PT1H
BEGIN:VTIMEZONE
TZID:America/Halifax
BEGIN:DAYLIGHT
TZOFFSETFROM:-0400
TZOFFSETTO:-0300
TZNAME:ADT
DTSTART:20250309T060000
END:DAYLIGHT
BEGIN:STANDARD
TZOFFSETFROM:-0300
TZOFFSETTO:-0400
TZNAME:AST
DTSTART:20251102T050000
END:STANDARD
BEGIN:DAYLIGHT
TZOFFSETFROM:-0400
TZOFFSETTO:-0300
TZNAME:ADT
DTSTART:20260308T060000
END:DAYLIGHT
BEGIN:STANDARD
TZOFFSETFROM:-0300
TZOFFSETTO:-0400
TZNAME:AST
DTSTART:20261101T050000
END:STANDARD
BEGIN:DAYLIGHT
TZOFFSETFROM:-0400
TZOFFSETTO:-0300
TZNAME:ADT
DTSTART:20270314T060000
END:DAYLIGHT
BEGIN:STANDARD
TZOFFSETFROM:-0300
TZOFFSETTO:-0400
TZNAME:AST
DTSTART:20271107T050000
END:STANDARD
END:VTIMEZONE
BEGIN:VEVENT
DTSTART;VALUE=DATE:20260217
DTEND;VALUE=DATE:20260314
DTSTAMP:20260419T100843
CREATED:20260218T125647Z
LAST-MODIFIED:20260218T131539Z
UID:4945-1771286400-1773446399@csnpei.com
SUMMARY:📣 Calling Canadian social enterprises
DESCRIPTION:Social enterprises play a vital role to strengthen communities\, advance social and environmental solutions\, and contribute to Canada’s economy. Every day\, your work creates jobs\, sustains local economies\, and tackles complex social and environmental challenges. Yet there is still limited national data that fully reflects the scale and value of what social enterprises do. \nThe Canadian Social Enterprise Sector Survey is an opportunity for social enterprises to share your experience and help build a clearer\, more accurate picture of the sector across Canada. The information you provide will support advocacy\, research\, policy development\, and strategic initiatives designed to better serve social enterprises and the communities you work with. \nBy taking part in this survey\, you help ensure that the diversity\, innovation\, and impact of social enterprises nationwide is recognized and supported. \nWhether your organization is large or small\, urban or rural\, new or well-established\, your perspective matters. Your participation contributes to a shared national effort to strengthen the sector’s visibility\, access to resources and opportunities\, and long-term sustainability. \n🗓️ Deadline: March 13\, 2026\n👉 Take the survey: https://docs.google.com/forms/d/e/1FAIpQLSeMokttgoYhr3nLL64hESRNKmWuXcvDrGcA3MYaGzKbiS-Ewg/viewform  \n This survey will take approximately 20 minutes to complete. All completed survey submissions will be entered into a prize draw to win $500. \nThe Canadian Social Enterprise Sector Survey is led by Buy Social Canada in partnership with sector organizations nationwide. \nMore information and answers to frequently asked questions can be found at socialenterprisesurvey.ca. If anything is unclear or you have any questions\, please don’t hesitate to reach out to Emma@buysocialcanada.com.
URL:https://csnpei.com/event/%f0%9f%93%a3-calling-canadian-social-enterprises/
ATTACH;FMTTYPE=image/png:https://csnpei.com/wp-content/uploads/2026/02/Untitled-design.png
END:VEVENT
BEGIN:VEVENT
DTSTART;TZID=America/Halifax:20260304T093000
DTEND;TZID=America/Halifax:20260304T160000
DTSTAMP:20260419T100843
CREATED:20260219T165152Z
LAST-MODIFIED:20260219T165256Z
UID:4955-1772616600-1772640000@csnpei.com
SUMMARY:Policy Check-Up: Free Legal Clinic for Employers
DESCRIPTION:Do you manage a small PEI business or non-profit? The RISE Program is hosting a free legal clinic to strengthen your workplace policies to better protect you and your staff.\n\nThey’re teaming up with employment and labour lawyers Ryan McCarville (McInnis Cooper)\, Maggie Hughes (Cox & Palmer)\, and Kate Profit (Stewart McKelvey).\n\nYou’ll receive guidance on how to strengthen workplace and harassment policies to help keep you and your employees safe.\n📅 March 4th | 9:30 am – 4 pm\n📍 Charlottetown Library Learning Centre\n\nOne-hour appointment slots are available. Pre-registration is required.\n\nEmail sarah@legalinfopei.ca to reserve your spot.
URL:https://csnpei.com/event/policy-check-up-free-legal-clinic-for-employers/
END:VEVENT
END:VCALENDAR