BEGIN:VCALENDAR
VERSION:2.0
PRODID:-//Community Sector Network of PEI - ECPv6.15.20//NONSGML v1.0//EN
CALSCALE:GREGORIAN
METHOD:PUBLISH
X-ORIGINAL-URL:https://csnpei.com
X-WR-CALDESC:Events for Community Sector Network of PEI
REFRESH-INTERVAL;VALUE=DURATION:PT1H
X-Robots-Tag:noindex
X-PUBLISHED-TTL:PT1H
BEGIN:VTIMEZONE
TZID:America/Halifax
BEGIN:DAYLIGHT
TZOFFSETFROM:-0400
TZOFFSETTO:-0300
TZNAME:ADT
DTSTART:20250309T060000
END:DAYLIGHT
BEGIN:STANDARD
TZOFFSETFROM:-0300
TZOFFSETTO:-0400
TZNAME:AST
DTSTART:20251102T050000
END:STANDARD
BEGIN:DAYLIGHT
TZOFFSETFROM:-0400
TZOFFSETTO:-0300
TZNAME:ADT
DTSTART:20260308T060000
END:DAYLIGHT
BEGIN:STANDARD
TZOFFSETFROM:-0300
TZOFFSETTO:-0400
TZNAME:AST
DTSTART:20261101T050000
END:STANDARD
BEGIN:DAYLIGHT
TZOFFSETFROM:-0400
TZOFFSETTO:-0300
TZNAME:ADT
DTSTART:20270314T060000
END:DAYLIGHT
BEGIN:STANDARD
TZOFFSETFROM:-0300
TZOFFSETTO:-0400
TZNAME:AST
DTSTART:20271107T050000
END:STANDARD
END:VTIMEZONE
BEGIN:VEVENT
DTSTART;TZID=America/Halifax:20260425T190000
DTEND;TZID=America/Halifax:20260425T210000
DTSTAMP:20260419T100825
CREATED:20260402T191510Z
LAST-MODIFIED:20260402T191510Z
UID:5440-1777143600-1777150800@csnpei.com
SUMMARY:Fascinating Ladies of Country Tour
DESCRIPTION:Young at Heart Theatre presents Fascinating Ladies of Country\, a musical revue compiled and created by Brielle Ansems and Catherine O’Brien. Starring Haley Zavo\, Olivia Blacquiere and Stephanie Ross\, this show is a celebration of the artists who put feminism and women’s liberation at the forefront\, and who made significant contributions to gender equality through music and activism. \nFeaturing popular songs like 9 to 5\, DIVORCE\, Delta Dawn and Any Man of Mine\, and with wonderful three-part harmonies and gorgeous arrangements by Brielle\, this will be a signature show for Young at Heart Theatre fans. \nYoung at Heart Theatre is a charity organization dedicated to enriching lives through story and song. This production is made possible with the support of Innovation PEI and The City of Charlottetown. \n*Please contact the venue for ticket information!
URL:https://csnpei.com/event/fascinating-ladies-of-country-tour-11/
LOCATION:Souris Show Hall\, 5 Church Ave\, Souris\, PE\, C0A 2B0\, Canada
ATTACH;FMTTYPE=image/jpeg:https://csnpei.com/wp-content/uploads/2026/04/b8ed4ca5-fd41-4fd1-9b1b-2195f4c69f47.jpeg
ORGANIZER;CN="Young At Heart Theatre":MAILTO:info@yahtheatre.com
END:VEVENT
END:VCALENDAR