BEGIN:VCALENDAR
VERSION:2.0
PRODID:-//Community Sector Network of PEI - ECPv6.15.20//NONSGML v1.0//EN
CALSCALE:GREGORIAN
METHOD:PUBLISH
X-WR-CALNAME:Community Sector Network of PEI
X-ORIGINAL-URL:https://csnpei.com
X-WR-CALDESC:Events for Community Sector Network of PEI
REFRESH-INTERVAL;VALUE=DURATION:PT1H
X-Robots-Tag:noindex
X-PUBLISHED-TTL:PT1H
BEGIN:VTIMEZONE
TZID:America/Halifax
BEGIN:DAYLIGHT
TZOFFSETFROM:-0400
TZOFFSETTO:-0300
TZNAME:ADT
DTSTART:20240310T060000
END:DAYLIGHT
BEGIN:STANDARD
TZOFFSETFROM:-0300
TZOFFSETTO:-0400
TZNAME:AST
DTSTART:20241103T050000
END:STANDARD
BEGIN:DAYLIGHT
TZOFFSETFROM:-0400
TZOFFSETTO:-0300
TZNAME:ADT
DTSTART:20250309T060000
END:DAYLIGHT
BEGIN:STANDARD
TZOFFSETFROM:-0300
TZOFFSETTO:-0400
TZNAME:AST
DTSTART:20251102T050000
END:STANDARD
BEGIN:DAYLIGHT
TZOFFSETFROM:-0400
TZOFFSETTO:-0300
TZNAME:ADT
DTSTART:20260308T060000
END:DAYLIGHT
BEGIN:STANDARD
TZOFFSETFROM:-0300
TZOFFSETTO:-0400
TZNAME:AST
DTSTART:20261101T050000
END:STANDARD
END:VTIMEZONE
BEGIN:VEVENT
DTSTART;VALUE=DATE:20251202
DTEND;VALUE=DATE:20251203
DTSTAMP:20260419T205029
CREATED:20260210T010640Z
LAST-MODIFIED:20260210T010640Z
UID:4841-1764633600-1764719999@csnpei.com
SUMMARY:CFPEI Giving Tuesday
DESCRIPTION:Unlock the Hidden Power of Giving – Free Online Session\nTax-Smart Strategies for Today and Tomorrow\nMaximize Your Impact. Minimize Your Taxes.\nDecember 2\, 2025 (Giving Tuesday)\n\nTwo options to join – choose the session that works best for you!\n12:00pm – 12:30pm | 7:00pm-7:30pm \nThe sessions will be delivered virtually on Zoom\n(the link will be provided upon registration for your selected session) \n\nAre you a donor looking to make the most of your generosity? Or a charity wanting to share important charitable giving information with your existing donors? Or perhaps a professional advisor that works with clients? \nJoin us for an information session on The Giftabulator\, a powerful web-based tool that helps donors understand the tax advantages of charitable giving. \nDuring this session\, you’ll learn:\nHow immediate donations using cash\, securities\, RRSPs\, RRIFs\, and more can reduce your taxes.\nThe power of endowments and how they create lasting impact.\nHow strategic giving can save estate taxes and benefit your legacy. \nMore information: https://www.cfpei.ca/giftabulatordemo/
URL:https://csnpei.com/event/cfpei-giving-tuesday/
LOCATION:Online (Zoom)
END:VEVENT
BEGIN:VEVENT
DTSTART;TZID=America/Halifax:20251128T090000
DTEND;TZID=America/Halifax:20251128T170000
DTSTAMP:20260419T205029
CREATED:20260210T005708Z
LAST-MODIFIED:20260210T005708Z
UID:4837-1764320400-1764349200@csnpei.com
SUMMARY:WorkSource Alliance Employment Skills Bootcamp
DESCRIPTION:Are you looking to feel more confident and prepared for your next job opportunity in Canada? We’re hosting a free\, full-day Employment Skills Bootcamp to help you build the skills\, tools\, and confidence you need to succeed in the Canadian workplace. \nDate: Friday\, November 28\nTime: 9:00 a.m. – 5:00 p.m.\nLocation: 49 Water St\, Charlottetown \nThis bootcamp is open to international students\, graduates\, and newcomers living on PEI. \nDuring this interactive day\, you’ll: \n\nLearn about Canadian workplace culture and expectations\nStrengthen your interview skills and communication\nBuild your personal brand and learn how to stand out to employers\nOptimize your LinkedIn profile with practical\, step-by-step guidance\nReceive a free professional headshot taken by a photographer to use on LinkedIn.\n\nTo make the day easier for you\, lunch will be provided\, and there is no cost to attend. \n Register online:\nPlease register on our website under the Events page\, or use this link to sign up:\nhttps://worksourcealliance.ca/events/employment-skills-bootcamp \nSpots are limited\, so we encourage you to register as soon as possible.
URL:https://csnpei.com/event/worksource-alliance-employment-skills-bootcamp/
LOCATION:49 Water St.\, 49 Water St.\, Charlottetown\, PE\, Canada
END:VEVENT
END:VCALENDAR