BEGIN:VCALENDAR
VERSION:2.0
PRODID:-//Community Sector Network of PEI - ECPv6.15.20//NONSGML v1.0//EN
CALSCALE:GREGORIAN
METHOD:PUBLISH
X-WR-CALNAME:Community Sector Network of PEI
X-ORIGINAL-URL:https://csnpei.com
X-WR-CALDESC:Events for Community Sector Network of PEI
REFRESH-INTERVAL;VALUE=DURATION:PT1H
X-Robots-Tag:noindex
X-PUBLISHED-TTL:PT1H
BEGIN:VTIMEZONE
TZID:America/Halifax
BEGIN:DAYLIGHT
TZOFFSETFROM:-0400
TZOFFSETTO:-0300
TZNAME:ADT
DTSTART:20240310T060000
END:DAYLIGHT
BEGIN:STANDARD
TZOFFSETFROM:-0300
TZOFFSETTO:-0400
TZNAME:AST
DTSTART:20241103T050000
END:STANDARD
BEGIN:DAYLIGHT
TZOFFSETFROM:-0400
TZOFFSETTO:-0300
TZNAME:ADT
DTSTART:20250309T060000
END:DAYLIGHT
BEGIN:STANDARD
TZOFFSETFROM:-0300
TZOFFSETTO:-0400
TZNAME:AST
DTSTART:20251102T050000
END:STANDARD
BEGIN:DAYLIGHT
TZOFFSETFROM:-0400
TZOFFSETTO:-0300
TZNAME:ADT
DTSTART:20260308T060000
END:DAYLIGHT
BEGIN:STANDARD
TZOFFSETFROM:-0300
TZOFFSETTO:-0400
TZNAME:AST
DTSTART:20261101T050000
END:STANDARD
BEGIN:DAYLIGHT
TZOFFSETFROM:-0400
TZOFFSETTO:-0300
TZNAME:ADT
DTSTART:20270314T060000
END:DAYLIGHT
BEGIN:STANDARD
TZOFFSETFROM:-0300
TZOFFSETTO:-0400
TZNAME:AST
DTSTART:20271107T050000
END:STANDARD
END:VTIMEZONE
BEGIN:VEVENT
DTSTART;TZID=America/Halifax:20260224T130000
DTEND;TZID=America/Halifax:20260224T143000
DTSTAMP:20260419T143316
CREATED:20260203T161953Z
LAST-MODIFIED:20260209T202905Z
UID:4740-1771938000-1771943400@csnpei.com
SUMMARY:Strategic Planning and Why It Matters: Online Workshop
DESCRIPTION:Without a strategic plan\, organizations struggle to determine long-term goals\, set budget requirements\, and attract and retain effective board members. What will your organization focus on in the coming 2-5 years? In the post-pandemic experience of leading\, many small businesses\, entrepreneurs\, and non-profit organizations are opting to create a longer-term focus but require a simplified process for strategic planning. The development of a strategic plan can provide stability\, sustainability\, and direction for you\, your team\, and your clients. But\, how do you know if you are ready to create a strategic plan? And what will be the process to develop and introduce such a plan? \n  \nAttend this session to learn about: \n\nThe simple 4-step process of developing a strategic plan;\nThe benefits and challenges of collaborative planning;\nThe community-building foundational structures of mission\, vision and values for your organization.\n\n  \n~ Event details at a glance ~ \n🗓️ When: Tuesday\, Feb. 24 from 1 to 2:30 PM \n📍 Where: Online (Link available upon registration) \n🔗 Sign up now! bit.ly/4sCbcEz \n💸 Pricing: $25 for CSNPEI members\, $50 for non-members \n  \nAbout Sonia Byrne ~ \nSonia is the principal consultant with Sonia Byrne & Associates\, known within the Canadian non-profit sector for strategic planning and leadership consultation with teams and boards. She has provided consulting services to the sector since 2009 and has completed more than 50 strategic plans with non-profit organizations. Sonia Byrne & Associates has provided consulting to leadership teams in organizations across Canada\, the USA\, Mexico\, Europe and the Middle East through their Mindful Leadership for Success programs and services. Sonia is a teacher and facilitator with Centennial College in Toronto\, St. Mary’s University in Nova Scotia and the Community Sector Council entrepreneurial and workplace readiness programs in Atlantic Canada focusing on the importance of self-awareness\, mindfulness and intentional communication for people in business and in life.
URL:https://csnpei.com/event/strategic-planning-and-why-it-matters-online-workshop/
LOCATION:Online (Zoom)
ATTACH;FMTTYPE=image/jpeg:https://csnpei.com/wp-content/uploads/2026/02/Sonia-webinar-FB-event-size.jpg
END:VEVENT
BEGIN:VEVENT
DTSTART;TZID=America/Halifax:20260221T100000
DTEND;TZID=America/Halifax:20260221T120000
DTSTAMP:20260419T143316
CREATED:20260209T151457Z
LAST-MODIFIED:20260209T152452Z
UID:4784-1771668000-1771675200@csnpei.com
SUMMARY:Becoming an Ally Book Launch - February 21\, 2026
DESCRIPTION:Becoming an Ally Book Launch – February 21\, 2026 \nCooper Institute will host the launch of the fourth edition of Anne Bishop’s groundbreaking book\, Becoming an Ally\, on Saturday \, February 21st\, 10 am-12 noon at the Charlottetown Library & Learning Centre. (Storm date: February 22 at 1 pm\, same place) \nAnne Bishop has been a social justice activist for five decades.The first edition of Becoming an Ally\, published in 1994\, sold more than 50\,000 copies worldwide. In this new edition\, the author\, building on three earlier editions\, has written a new guide to structural oppression\, where it came from and how it spread.  What will it take to transform our world society into one that provides the resources and support required for everyone to thrive? And within that\, what is the role of allies?\n\nFor more information\, email ann@cooperinstitute.ca.
URL:https://csnpei.com/event/becoming-an-ally-book-launch-february-21-2026/
ATTACH;FMTTYPE=image/jpeg:https://csnpei.com/wp-content/uploads/2026/02/Ally_Poster_Ctown.jpg
END:VEVENT
BEGIN:VEVENT
DTSTART;TZID=America/Halifax:20260218T120000
DTEND;TZID=America/Halifax:20260218T143000
DTSTAMP:20260419T143316
CREATED:20260203T162359Z
LAST-MODIFIED:20260209T203813Z
UID:4744-1771416000-1771425000@csnpei.com
SUMMARY:Contracts\, MOUs\, and Agreements in the Nonprofit Sector: Lunch and Learn
DESCRIPTION:As nonprofits and charities\, many of our organizations do not have the financial means to hire a lawyer every time a contract\, MOU\, or agreement needs drafting. \nJoin CSNPEI and lawyer Andrew MacDonald for another session of our Legal Lunch and Learn series\, this time exploring Contracts\, MOUs\, and Agreements in the Nonprofit Sector: Understanding Rights\, Risks\, and Responsibilities. \n  \n~ Event details at a glance ~ \n🗓️ When: Wednesday\, Feb. 18 from 12-2:30 pm (Snow day Feb. 20) \n📍 Where: The Growth Commons (Suite 260\, 670 University Ave.) \n✨ This is a free event! All are welcome. \n🔗 Sign up now as space is limited! bit.ly/4qVdkWL \nFor directions\, visit growthcommons.com and scroll down to the bottom of the page! \n  \n~ Schedule ~ \n\nStarting at 12 noon\, a nutritious meal will be served for folks to enjoy a well-deserved break and network with other attendees\nFrom 1-2:20\, Andrew will lead a workshop on Contracts\, MOUs\, and Agreements in the Nonprofit Sector: Understanding Rights\, Risks\, and Responsibilities\, with time and space for questions!\nFrom 2:20 to 2:30\, we’ll be wrapping up for the afternoon\n\n  \n~ About Andrew ~ Andrew is an Associate with Key Murray Law\, and is based in Charlottetown\, Prince Edward Island. His practice areas include administrative law; corporate commercial transactions; estates; fisheries law; non-profit corporate law and governance; real estate; residential rental law; and family law. Andrew grew up in PEl\, and holds a B.A.\, Economics & English Literature\, from St. Thomas University\, and J.D. from Queen’s University Faculty of Law. In addition to his legal practice\, Andrew is a Commissioner with the Human Rights Commission of PEI\, and a Director and member of the Executive on the United Way Maritimes Board of Directors. \n  \n~ About the Legal Lunch and Learn Series ~ CSNPEI’s Legal Lunch and Learn returns this year to create a space where non-profit staff and volunteers around PEI can come together to share a meal\, network\, and learn about legal matters relevant to the community sector. This series is made possible through the generous support of the Law Foundation of Prince Edward Island.
URL:https://csnpei.com/event/contracts-mous-and-agreements-in-the-nonprofit-sector-lunch-and-learn/
LOCATION:The Growth Commons\, 670 University Ave.\, Suite 260\, Charlottetown\, PE\, C1E1H6\, Canada
ATTACH;FMTTYPE=image/jpeg:https://csnpei.com/wp-content/uploads/2026/02/legal-lunch-and-learn-2025-1920-x-1080-px-2.jpg
END:VEVENT
BEGIN:VEVENT
DTSTART;TZID=America/Halifax:20260218T120000
DTEND;TZID=America/Halifax:20260218T133000
DTSTAMP:20260419T143316
CREATED:20260209T151208Z
LAST-MODIFIED:20260209T151233Z
UID:4779-1771416000-1771421400@csnpei.com
SUMMARY:Free webinar on common-law relationships on PEI
DESCRIPTION:Free webinar on common-law relationships on PEI \nThinking about moving in with a partner\, or already in a common-law relationship? Join Community Legal Information for a free webinar on the key legal things to consider. \nThis session is hosted in collaboration with Amber Wilson from Key Murray Law. Amber will share clear and practical information to help you feel informed and prepared. \nThis webinar is for people who: \n\nLive on PEI and are entering a common-law relationship\, or already in one\nWant to understand how common-law relationships differ from marriage\nHave questions about cohabitation agreements\nWant to know how common-law relationships can affect property\, money\, estates\, and health care decisions\n\nThis session is educational and open to the public. Everyone is welcome. Register on Eventbrite!
URL:https://csnpei.com/event/free-webinar-on-common-law-relationships-on-pei/
END:VEVENT
BEGIN:VEVENT
DTSTART;TZID=America/Halifax:20260218T090000
DTEND;TZID=America/Halifax:20260218T170000
DTSTAMP:20260419T143316
CREATED:20260211T154401Z
LAST-MODIFIED:20260211T154401Z
UID:4899-1771405200-1771434000@csnpei.com
SUMMARY:Repères : Formation immersive\, Île-du-Prince-Édouard.
DESCRIPTION:Dans le cadre de la Stratégie pancanadienne pour les femmes immigrantes francophones en situation minoritaire\, financée par Immigration\, Réfugiés et Citoyenneté Canada (IRCC)\, l’Alliance des femmes de la francophonie canadienne (AFFC) a le plaisir de vous inviter à participer à une formation immersive en présentiel\, organisée en partenariat avec le Réseau en immigration francophone de l’Île-du-Prince-Édouard. \nCette formation se tiendra le 18 février 2026 à 9 h\, au Credit Union Place\, situé au 511\, rue Notre-Dame\, Summerside (Î.-P.-É.)\, C1N 1T2. \n​Elle s’adresse aux personnes souhaitant de renforcer leurs pratiques et de développer des initiatives mieux adaptées aux réalités des femmes immigrantes francophones. Appuyée sur les résultats de consultations menées à l’échelle nationale\, elle mettra en lumière les enjeux régionaux prioritaires\, notamment en lien avec l’entrepreneuriat. \nÀ travers des échanges structurés et des activités collaboratives\, cette expérience immersive offrira des repères concrets pour repenser la conception d’initiatives durables\, ancrées dans les réalités régionales et les parcours des femmes immigrantes francophones. \nNous serions ravies de vous compter parmi nos invité.es et participant.es. Les places étant limitées\, nous vous invitons à confirmer votre participation au plus tard le 14 février 2026 via le lien :
URL:https://csnpei.com/event/reperes-formation-immersive-ile-du-prince-edouard/
LOCATION:Credit Union Place\, 511 Rue Notre-Dame\, Summerside\, Canada
END:VEVENT
BEGIN:VEVENT
DTSTART;VALUE=DATE:20260216
DTEND;VALUE=DATE:20260217
DTSTAMP:20260419T143316
CREATED:20260211T020347Z
LAST-MODIFIED:20260211T020347Z
UID:4880-1771200000-1771286399@csnpei.com
SUMMARY:CSNPEI Office Closed for Islander Day
DESCRIPTION:Our office is closed on February 16 for Islander Day. We’ll reopen on February 17!
URL:https://csnpei.com/event/csnpei-office-closed-for-islander-day/
END:VEVENT
BEGIN:VEVENT
DTSTART;TZID=America/Halifax:20260212T170000
DTEND;TZID=America/Halifax:20260212T170000
DTSTAMP:20260419T143316
CREATED:20260209T145927Z
LAST-MODIFIED:20260209T145927Z
UID:4773-1770915600-1770915600@csnpei.com
SUMMARY:Canadian Immigration Updates for International Students
DESCRIPTION:  \nCanadian Immigration Updates for International Students \nBack by popular demand! Join Justice Avenues and Worksource Alliance for a free legal info webinar. This session is for international students living in PEI. \nWhen: February 12 at 5 pm\nWhere: Zoom – virtual \nImmigration lawyer Hanaa Al Sharief from McInnes Cooper will cover: \n\nUpdates on immigration policies for international students\nPost-Graduate Work Permit (PGWP) rules\, eligibility\, and tips\nRecent trends from IRCC\n\nRegister on Eventbrite. For questions\, contact Rita at rita@worksourcealliance.ca or Nicole at nicole@legalinfopei.ca.
URL:https://csnpei.com/event/canadian-immigration-updates-for-international-students/
END:VEVENT
BEGIN:VEVENT
DTSTART;TZID=America/Halifax:20260211T110000
DTEND;TZID=America/Halifax:20260211T120000
DTSTAMP:20260419T143316
CREATED:20260211T184501Z
LAST-MODIFIED:20260211T191338Z
UID:4906-1770807600-1770811200@csnpei.com
SUMMARY:Cybersecurity for Non-Profits: Free Webinar
DESCRIPTION:We want to help you become informed about what cybersecurity is and how you can protect yourself so that you – as well as your organization and clients – don’t become victims of a cyber attack. We’ll also give you some steps to follow in the event of a cybersecurity breach. \nWe’ll touch on the current threat landscape\, starting with what cyber crime is\, what the latest cyber security and fraud trends are that might impact you and your organization\, with extra time for questions! \n  \n~ Event details at a glance ~ \n🗓️ When: Wednesday\, Feb. 11 from 11 AM to 12 PM \n📍 Where: Online (Link available upon registration) \n🔗 Sign up now! bit.ly/cybersecuritywithrbc \nThis is a free event! All are welcome.   \n  \n~ About Stephen Gallant ~ \nStephen Gallant has the dual role of Senior Treasury Solutions and Deposit Specialist throughout Atlantic Canada. He forms part of a relationship banking team to help bring customized solutions to your company or organization. He has 35 years of RBC experience in various branch and commercial banking positions. Stephen works closely with your Relationship Manager and Commercial Banking Advisor to insure you have the correct cash management services that fit your business or organization. \nStephen will help coordinate the on-boarding of any new Treasury or Deposit products. He will use his strong knowledge of client’s operational requirements to provide the best Treasury and Deposit Solutions to support your cash flow needs. Stephen delivers financial and business advice through the presentation of options with a recommendation that clearly articulates the advantages and benefits to your organization.
URL:https://csnpei.com/event/cybersecurity-for-non-profits-free-webinar/
LOCATION:Online
ATTACH;FMTTYPE=image/jpeg:https://csnpei.com/wp-content/uploads/2026/02/RBC-webinar-FB-event.jpg
END:VEVENT
BEGIN:VEVENT
DTSTART;VALUE=DATE:20260211
DTEND;VALUE=DATE:20260212
DTSTAMP:20260419T143316
CREATED:20260209T152711Z
LAST-MODIFIED:20260209T152711Z
UID:4789-1770768000-1770854399@csnpei.com
SUMMARY:Atlantic Canada Social Enterprise Census
DESCRIPTION:We are reaching out to invite you to participate in the Atlantic Canadian Social Enterprise Census\, a short (15 minutes or less) survey that asks about the work your organization does\, and the challenges and barriers you’re facing\, especially related to funding/financing. \nYou are also invited to participate in a short interview to dive into further detail not captured by the survey alone. These conversations help to understand your current challenges and opportunities\, to advocate on your behalf\, and design tools that actually meet your needs. Email  info@purposefulgroup.ca to arrange a time for your interview. \nIf your work contributes to community or environmental impact in any way\, we want to hear from you. The definition of Social Enterprise according to Buy Social Canada is: “ businesses that sells goods or services\, embed a social\, cultural or environmental purpose into the business\, and reinvest the majority of profits or surplus into their purpose.”  More broadly\, Social Purpose Organizations (SPOs) include charities\, nonprofits\, social enterprises\, co-operatives\, and mission-driven businesses\, and we are looking to capture insights from all of these forms of impact focused organizations. \nAtlantic Canada’s social impact sector is growing\, and completing the census is a powerful way to strengthen our collective understanding of its scale\, diversity\, and contribution here at home. \nAnother meaningful way to be part of this momentum is by certifying your social enterprise with Buy Social Canada.  Buy Social Canada certification is a nationally recognized signal of credibility and impact\, helping connect Atlantic Canadian social enterprises to buyers\, partners\, and procurement opportunities across the country. \nParticipation also creates a free profile on Good Market\, a global directory for values-driven organizations\, and initiates the first step toward People Planet First – an international verification framework developed by the Social Enterprise World Forum. \nTake the survey here:\nEnglish: www.goodmarket.global/survey/atlantic-canada-social-enterprise-census/landing?lang=en\nFrench: www.goodmarket.global/survey/atlantic-canada-social-enterprise-census/landing?lang=fr \nWe sincerely appreciate your time\, insights\, and willingness to share your story. Thank you for the important work you do daily to strengthen Atlantic Canadian communities. If you have any questions or would like to connect\, the team at The Purposeful Group would be happy to meet with you. Contact the team at info@purposefulgroup.ca
URL:https://csnpei.com/event/atlantic-canada-social-enterprise-census/
END:VEVENT
BEGIN:VEVENT
DTSTART;TZID=America/Halifax:20260210T130000
DTEND;TZID=America/Halifax:20260210T140000
DTSTAMP:20260419T143316
CREATED:20260209T145616Z
LAST-MODIFIED:20260209T145720Z
UID:4767-1770728400-1770732000@csnpei.com
SUMMARY:CreativePEI Lunch and Learn celebrating release of Accessibility Report
DESCRIPTION:  \nOn February 10 @ 1:00 pm – 2:00 pm. This event is free! \nJoin CreativePEI as we discuss the findings from our newly released Barriers and Access Report.The report presents insights from artists and arts workers across Prince Edward Island on accessibility\, participation barriers\, and systemic challenges in the arts sector. \nFindings point to clear\, achievable actions for the sector\, including embedding accessibility by design\, providing dedicated funding for access-related costs\, offering disability-informed training\, and centring artists with lived experience in decision-making. \nView the report at creativepei.ca/barriers-and-access-report. \nRegister to attend the launch at https://creativepei.ca/event/lunch-and-learn/.
URL:https://csnpei.com/event/creativepei-lunch-and-learn-celebrating-release-of-accessibility-report/
END:VEVENT
BEGIN:VEVENT
DTSTART;VALUE=DATE:20260202
DTEND;VALUE=DATE:20260221
DTSTAMP:20260419T143316
CREATED:20260209T150823Z
LAST-MODIFIED:20260210T184236Z
UID:4777-1769990400-1771631999@csnpei.com
SUMMARY:Are you a new Executive Director?
DESCRIPTION:Are you a new Executive Director? \nApplications are now open for the 2026 ED Academy\, a supportive 12-month training program for Executive Directors with less than 3 years in the role. \nED Academy helps new EDs build confidence\, strengthen their leadership approach\, and navigate the realities of nonprofit management\, with practical tools and peer support along the way. \nThe program includes live in-person sessions\, an online learning classroom and community\, monthly virtual sessions\, and 100+ sector-specific tools and templates. The program begins in April 2026 and applications are open. \nHere’s how you can help: \n\n\nShare the application link with your networks \n\n\nRecommend the program to any new EDs you know \n\n\nReshare our social media posts (we’ve made it easy!) – LinkedIn or Instagram! \n\n\n🔗 Application link:\nhttps://forms.office.com/Pages/ResponsePage.aspx?id=2tps4L6W406uB0l3hJAoZ8qcxEq2tm5Oh9jQ_NbDk_pUNkhHUDUzTlRXRDEyOUo2V0ZNRzBKUk85QS4u \nProvince Specific Details: \n🟣 New Brunswick (francophone offering) \n🔵 Nova Scotia \n🟢 Prince Edward Island
URL:https://csnpei.com/event/are-you-a-new-executive-director/
END:VEVENT
BEGIN:VEVENT
DTSTART;VALUE=DATE:20260129
DTEND;VALUE=DATE:20260131
DTSTAMP:20260419T143316
CREATED:20260210T011829Z
LAST-MODIFIED:20260210T011829Z
UID:4843-1769644800-1769817599@csnpei.com
SUMMARY:PEI Community Impact Summit
DESCRIPTION:You asked for a space to come together\, learn from each other\, and strengthen the nonprofit sector and it’s happening! \nThe PEI Community Impact Summit will take place January 29–30\, 2026 in Charlottetown\, bringing nonprofit staff and volunteers from across the Island together for two days of collaboration\, learning\, and connection. \nThis conference will feature interactive workshops\, panel discussions and dynamic sessions focused on Equity\, Diversity & Inclusion (EDI)\, Revenue Diversification & Sustainability\, Professional Development\, Skill Building\, and more. \nGet ready for practical tools\, fresh ideas\, and meaningful dialogue designed to move our sector forward together.
URL:https://csnpei.com/event/pei-community-impact-summit/
LOCATION:Delta Hotels Prince Edward\, 18 Queen St.\, Charlottetown\, PE\, C1A 4A1\, Canada
ATTACH;FMTTYPE=image/jpeg:https://csnpei.com/wp-content/uploads/2026/02/https-cdn.evbuc_.com-images-1172172264-1394730425253-1-original.20251202-191017.jpeg
END:VEVENT
BEGIN:VEVENT
DTSTART;VALUE=DATE:20251202
DTEND;VALUE=DATE:20251203
DTSTAMP:20260419T143316
CREATED:20260210T010640Z
LAST-MODIFIED:20260210T010640Z
UID:4841-1764633600-1764719999@csnpei.com
SUMMARY:CFPEI Giving Tuesday
DESCRIPTION:Unlock the Hidden Power of Giving – Free Online Session\nTax-Smart Strategies for Today and Tomorrow\nMaximize Your Impact. Minimize Your Taxes.\nDecember 2\, 2025 (Giving Tuesday)\n\nTwo options to join – choose the session that works best for you!\n12:00pm – 12:30pm | 7:00pm-7:30pm \nThe sessions will be delivered virtually on Zoom\n(the link will be provided upon registration for your selected session) \n\nAre you a donor looking to make the most of your generosity? Or a charity wanting to share important charitable giving information with your existing donors? Or perhaps a professional advisor that works with clients? \nJoin us for an information session on The Giftabulator\, a powerful web-based tool that helps donors understand the tax advantages of charitable giving. \nDuring this session\, you’ll learn:\nHow immediate donations using cash\, securities\, RRSPs\, RRIFs\, and more can reduce your taxes.\nThe power of endowments and how they create lasting impact.\nHow strategic giving can save estate taxes and benefit your legacy. \nMore information: https://www.cfpei.ca/giftabulatordemo/
URL:https://csnpei.com/event/cfpei-giving-tuesday/
LOCATION:Online (Zoom)
END:VEVENT
BEGIN:VEVENT
DTSTART;TZID=America/Halifax:20251128T090000
DTEND;TZID=America/Halifax:20251128T170000
DTSTAMP:20260419T143316
CREATED:20260210T005708Z
LAST-MODIFIED:20260210T005708Z
UID:4837-1764320400-1764349200@csnpei.com
SUMMARY:WorkSource Alliance Employment Skills Bootcamp
DESCRIPTION:Are you looking to feel more confident and prepared for your next job opportunity in Canada? We’re hosting a free\, full-day Employment Skills Bootcamp to help you build the skills\, tools\, and confidence you need to succeed in the Canadian workplace. \nDate: Friday\, November 28\nTime: 9:00 a.m. – 5:00 p.m.\nLocation: 49 Water St\, Charlottetown \nThis bootcamp is open to international students\, graduates\, and newcomers living on PEI. \nDuring this interactive day\, you’ll: \n\nLearn about Canadian workplace culture and expectations\nStrengthen your interview skills and communication\nBuild your personal brand and learn how to stand out to employers\nOptimize your LinkedIn profile with practical\, step-by-step guidance\nReceive a free professional headshot taken by a photographer to use on LinkedIn.\n\nTo make the day easier for you\, lunch will be provided\, and there is no cost to attend. \n Register online:\nPlease register on our website under the Events page\, or use this link to sign up:\nhttps://worksourcealliance.ca/events/employment-skills-bootcamp \nSpots are limited\, so we encourage you to register as soon as possible.
URL:https://csnpei.com/event/worksource-alliance-employment-skills-bootcamp/
LOCATION:49 Water St.\, 49 Water St.\, Charlottetown\, PE\, Canada
END:VEVENT
END:VCALENDAR