BEGIN:VCALENDAR
VERSION:2.0
PRODID:-//Community Sector Network of PEI - ECPv6.15.20//NONSGML v1.0//EN
CALSCALE:GREGORIAN
METHOD:PUBLISH
X-WR-CALNAME:Community Sector Network of PEI
X-ORIGINAL-URL:https://csnpei.com
X-WR-CALDESC:Events for Community Sector Network of PEI
REFRESH-INTERVAL;VALUE=DURATION:PT1H
X-Robots-Tag:noindex
X-PUBLISHED-TTL:PT1H
BEGIN:VTIMEZONE
TZID:America/Halifax
BEGIN:DAYLIGHT
TZOFFSETFROM:-0400
TZOFFSETTO:-0300
TZNAME:ADT
DTSTART:20250309T060000
END:DAYLIGHT
BEGIN:STANDARD
TZOFFSETFROM:-0300
TZOFFSETTO:-0400
TZNAME:AST
DTSTART:20251102T050000
END:STANDARD
BEGIN:DAYLIGHT
TZOFFSETFROM:-0400
TZOFFSETTO:-0300
TZNAME:ADT
DTSTART:20260308T060000
END:DAYLIGHT
BEGIN:STANDARD
TZOFFSETFROM:-0300
TZOFFSETTO:-0400
TZNAME:AST
DTSTART:20261101T050000
END:STANDARD
BEGIN:DAYLIGHT
TZOFFSETFROM:-0400
TZOFFSETTO:-0300
TZNAME:ADT
DTSTART:20270314T060000
END:DAYLIGHT
BEGIN:STANDARD
TZOFFSETFROM:-0300
TZOFFSETTO:-0400
TZNAME:AST
DTSTART:20271107T050000
END:STANDARD
END:VTIMEZONE
BEGIN:VEVENT
DTSTART;VALUE=DATE:20260803
DTEND;VALUE=DATE:20260804
DTSTAMP:20260419T130618
CREATED:20260211T020947Z
LAST-MODIFIED:20260211T020947Z
UID:4886-1785715200-1785801599@csnpei.com
SUMMARY:CSNPEI Office Closed for Civic Holiday
DESCRIPTION:Our office is closed on August 3 for the Civic Holiday. We’ll reopen on August 4!
URL:https://csnpei.com/event/csnpei-office-closed-for-civic-holiday/
END:VEVENT
BEGIN:VEVENT
DTSTART;TZID=America/Halifax:20260816T110000
DTEND;TZID=America/Halifax:20260816T150000
DTSTAMP:20260419T130618
CREATED:20260402T193819Z
LAST-MODIFIED:20260402T194133Z
UID:5462-1786878000-1786892400@csnpei.com
SUMMARY:DiverseCity Multicultural Festival
DESCRIPTION:DiverseCity Multicultural Festival is a free\, family-friendly summer festival that brings people together to celebrate culture\, food\, and community across PEI. Taking place in 7 locations from late June to late August\, the festival features live performances\, cultural activities\, food and artisan vendors\, and fun games for all ages—creating a vibrant and welcoming space for everyone to connect and experience different cultures. \nLearn more here!
URL:https://csnpei.com/event/diversecity-multicultural-festival-6/
LOCATION:Railway Station & Confederation Trail\, Kensington\, PE\, Canada
ATTACH;FMTTYPE=image/webp:https://csnpei.com/wp-content/uploads/2026/03/DC20_EF_Transparent.webp
END:VEVENT
BEGIN:VEVENT
DTSTART;VALUE=DATE:20260821
DTEND;VALUE=DATE:20260822
DTSTAMP:20260419T130618
CREATED:20260211T021114Z
LAST-MODIFIED:20260211T021114Z
UID:4888-1787270400-1787356799@csnpei.com
SUMMARY:CSNPEI Office Closed for Gold Cup Parade
DESCRIPTION:Our office is closed on Friday\, August 21 for the Gold Cup Parade. We’ll reopen on Monday\, August 24!
URL:https://csnpei.com/event/csnpei-office-closed-for-gold-cup-parade/
END:VEVENT
BEGIN:VEVENT
DTSTART;TZID=America/Halifax:20260830T130000
DTEND;TZID=America/Halifax:20260830T160000
DTSTAMP:20260419T130618
CREATED:20260402T194011Z
LAST-MODIFIED:20260402T194148Z
UID:5465-1788094800-1788105600@csnpei.com
SUMMARY:DiverseCity Multicultural Festival
DESCRIPTION:DiverseCity Multicultural Festival is a free\, family-friendly summer festival that brings people together to celebrate culture\, food\, and community across PEI. Taking place in 7 locations from late June to late August\, the festival features live performances\, cultural activities\, food and artisan vendors\, and fun games for all ages—creating a vibrant and welcoming space for everyone to connect and experience different cultures. \nLearn more here!
URL:https://csnpei.com/event/diversecity-multicultural-festival-7/
LOCATION:Centennial Park\, Pond St\, Souris\, PE\, Canada
ATTACH;FMTTYPE=image/webp:https://csnpei.com/wp-content/uploads/2026/03/DC20_EF_Transparent.webp
END:VEVENT
BEGIN:VEVENT
DTSTART;VALUE=DATE:20260907
DTEND;VALUE=DATE:20260908
DTSTAMP:20260419T130618
CREATED:20260211T021234Z
LAST-MODIFIED:20260211T021234Z
UID:4890-1788739200-1788825599@csnpei.com
SUMMARY:CSNPEI Office Closed for Labour Day
DESCRIPTION:Our office is closed on September 7 in observance of Labour Day. We’ll reopen on September 8!
URL:https://csnpei.com/event/csnpei-office-closed-for-labour-day/
END:VEVENT
BEGIN:VEVENT
DTSTART;VALUE=DATE:20260930
DTEND;VALUE=DATE:20261001
DTSTAMP:20260419T130618
CREATED:20260211T022524Z
LAST-MODIFIED:20260211T022524Z
UID:4892-1790726400-1790812799@csnpei.com
SUMMARY:CSNPEI Office Closed for National Day for Truth and Reconciliation
DESCRIPTION:Our office is closed on September 30 for National Day for Truth and Reconciliation. We’ll reopen on October 1! \n  \nAbout the National Day for Truth and Reconciliation:\nAs we close our office today to observe Truth and Reconciliation Day\, also known as Orange Shirt Day\, we want to partake in the tradition of wearing orange to honour the Survivors of Residential “Schools” and all the Indigenous children who never returned home\, as well as their families\, friends and communities. \nWe understand and recognize that Reconciliation is an everyday effort. By wearing an orange shirt on September 30th\, we commit to the enduring truth that EVERY CHILD MATTERS\, every day and everywhere\, as stated by the Orange Shirt Society (OSS). \nFor more information on the history of Orange Shirt Day\, visit orangeshirtday.org/orange-shirt-day \nFor more information on how to learn and support Reconciliation\, visit orangeshirtday.org \nCSNPEI is committed to listening to and uplifting Indigenous voices in the ongoing conversation surrounding Indigenous peoples’ rights\, cultures and history. \n  \nGovernment of Canada page on National Day for Truth and Reconciliation
URL:https://csnpei.com/event/csnpei-office-closed-for-national-day-for-truth-and-reconciliation/
END:VEVENT
BEGIN:VEVENT
DTSTART;VALUE=DATE:20261012
DTEND;VALUE=DATE:20261013
DTSTAMP:20260419T130618
CREATED:20260211T022825Z
LAST-MODIFIED:20260211T022825Z
UID:4894-1791763200-1791849599@csnpei.com
SUMMARY:CSNPEI Office Closed for Thanksgiving
DESCRIPTION:Our office is closed on October 12 for Thanksgiving. We’ll reopen on October 13!
URL:https://csnpei.com/event/csnpei-office-closed-for-thanksgiving/
END:VEVENT
BEGIN:VEVENT
DTSTART;VALUE=DATE:20261111
DTEND;VALUE=DATE:20261112
DTSTAMP:20260419T130618
CREATED:20260211T022952Z
LAST-MODIFIED:20260211T022952Z
UID:4896-1794355200-1794441599@csnpei.com
SUMMARY:CSNPEI Office Closed for Remembrance Day
DESCRIPTION:Our office is closed on November 11 for Remembrance Day. We’ll reopen on November 12!
URL:https://csnpei.com/event/csnpei-office-closed-for-remembrance-day/
END:VEVENT
END:VCALENDAR